BEGIN:VCALENDAR
VERSION:2.0
PRODID:-//Library Market//iCal Export//EN
BEGIN:VEVENT
SUMMARY:Notable Reads Book Group: Ruth by Kate Riley
UID:163534
DTSTAMP:20260420T115100Z
DTSTART:20260528T151500Z
DTEND:20260528T161500Z
LOCATION:New Canaan Library, 151 Main Street, New Canaan, CT 06840, United
  States
ROOM: McLaughlin Meeting Room
DESCRIPTION:This group reads broadly, with a focus on literary award winne
 rs, well-reviewed fiction, and translations. This month’s discussion is
  on Ruth by Kate Riley.Copies of the book are ready for pickup in the HOL
 DS area on the first floor of the library.  Please check out your copy wi
 th a librarian.
URL:https://www.newcanaanlibrary.org/event/notable-reads-book-group-163534
END:VEVENT
END:VCALENDAR
