BEGIN:VCALENDAR
VERSION:2.0
PRODID:-//Library Market//iCal Export//EN
BEGIN:VEVENT
SUMMARY:Beginner &amp; Intermediate ESL Class
UID:180416
DTSTAMP:20260420T045500Z
DTSTART:20260420T223000Z
DTEND:20260421T000000Z
LOCATION:New Canaan Library, 151 Main Street, New Canaan , CT 06840, Unite
 d States
ROOM: Karl Family Study Room (#219)
DESCRIPTION:Join us for our Beginner &amp; Intermediate English Language L
 earning Class on Mondays at 6:30 pm.  Students will discuss topics relat
 ed to current events, American culture, and fun facts, focusing on develop
 ing speaking and listening comprehension skills.  
URL:https://www.newcanaanlibrary.org/event/beginner-intermediate-esl-class
 -180416
END:VEVENT
END:VCALENDAR
