BEGIN:VCALENDAR
VERSION:2.0
PRODID:-//Library Market//iCal Export//EN
BEGIN:VEVENT
SUMMARY:Intermediate French Conversation Class
UID:180452
DTSTAMP:20260420T095900Z
DTSTART:20260427T220000Z
DTEND:20260427T230000Z
LOCATION:New Canaan Library, 151 Main Street, New Canaan, CT 06840, United
  States
ROOM: Craig B. Tate Conference Room
DESCRIPTION:Our French Conversation class focuses on culture, conversation
 , vocabulary, and grammar. Students will engage in various activities to p
 ractice the language. We will explore cultural topics related to everyday 
 life in francophone countries, such as food, customs, traditions, and fami
 ly.A basic knowledge of French is required to participate in this class. 
URL:https://www.newcanaanlibrary.org/event/intermediate-french-conversatio
 n-class-180452
END:VEVENT
END:VCALENDAR
