BEGIN:VCALENDAR
VERSION:2.0
PRODID:-//Library Market//iCal Export//EN
BEGIN:VEVENT
SUMMARY:Bestsellers Book Group
UID:181017
DTSTAMP:20260420T115100Z
DTSTART:20260527T220000Z
DTEND:20260527T230000Z
LOCATION:New Canaan Library, 151 Main Street, New Canaan, CT 06840, United
  States
ROOM: McLaughlin Meeting Room
DESCRIPTION:This group reads and discusses books of all genres that have r
 eached bestseller status. Join Reference librarians James and Kassidy to f
 ind out why these books are so well-loved and determine if they live up to
  the hype. New members are always welcome!This month we will be reading Th
 e Correspondent by Virginia Evans. You can pick up copies of the book fr
 om the hold shelf. Please allow time for the books to arrive, as we borro
 w copies from other libraries. 
URL:https://www.newcanaanlibrary.org/maybestsellers
END:VEVENT
END:VCALENDAR
