BEGIN:VCALENDAR
VERSION:2.0
PRODID:-//Library Market//iCal Export//EN
BEGIN:VEVENT
SUMMARY:Raptors and Reptiles with Christine&#039;s Critters for K-8th
UID:197700
DTSTAMP:20260421T110300Z
DTSTART:20260819T193000Z
DTEND:20260819T203000Z
LOCATION:New Canaan Library, 151 Main Street, New Canaan, CT 06840, United
  States
ROOM: Jim &amp; Dede Bartlett Auditorium + Community Room + Kend Kitchen
DESCRIPTION:Join us as Christine&#039;s Critters visits for a one-hour liv
 e program, offering an unforgettable, immersive experience bringing us fac
 e to face with 4–5 incredible birds of prey, including hawks, owls, and 
 falcons, as well as rescued reptiles. This is more than just a presentatio
 n, it’s a dynamic, interactive journey into the world of raptors and rep
 tiles, where each animal has a unique story of survival and resilience. Th
 rough engaging discussions, we explore their vital roles in the ecosystem,
  the challenges they face due to human impact, and how we can all contribu
 te to their conservation. Best for families with elementary-aged children 
 and up! 
URL:https://www.newcanaanlibrary.org/event/birds-prey-k-6th-197700
END:VEVENT
END:VCALENDAR
