BEGIN:VCALENDAR
VERSION:2.0
PRODID:-//Library Market//iCal Export//EN
BEGIN:VEVENT
SUMMARY:Celebrity Stylist Erin Walsh Presents, &quot;The Art of Intentiona
 l Dressing&quot;
UID:203032
DTSTAMP:20260421T104200Z
DTSTART:20260508T170000Z
DTEND:20260508T180000Z
LOCATION:New Canaan Library, 151 Main Street, New Canaan, CT 06840, United
  States
ROOM: Jim &amp; Dede Bartlett Auditorium + Community Room + Kend Kitchen
DESCRIPTION:Erin Walsh&#039;s client list includes Anne Hathaway and Selen
 a Gomez--and now, YOU! She joins us to present her new book, The Art of In
 tentional Dressing, to help you find your personal style, dress for your d
 estiny, and manifest your most magnetic life. Erin Walsh’s success is d
 riven by her core belief that your closet is a portal of possibilities, of
 fering you daily choices about who you want to be, how you want to feel, a
 nd how to dress the part. In The Art of Intentional Dressing, she presen
 ts her transformative approach to practicing what she calls “manifestati
 on in fashion form.” Her signature CREATE method will empower you to not
  only find your personal style, but find your magic—as you step into a l
 ife of presence, power, and purpose.Erin Walsh is a highly regarded celeb
 rity stylist and creative director. Her visionary approach to fashion has 
 evolved into a movement centered around the idea that style can empower yo
 u to manifest the life of your dreams. Erin’s client list includes moder
 n icons such as Anne Hathaway and Selena Gomez. Her style expertise is sou
 ght after by publications, podcasts, and brands, including Vogue, Bulgar
 i, Shiseido, Versace, Tiffany and Co, Ralph Lauren, and Rare Beauty. She i
 s also the co-founder of SBJCT: Journal, an activism-focused digital platf
 orm that features extraordinary people and the subjects that move them. E
 rin lives in New York City with her husband, photographer Christian Hogst
 edt, and their three children, Matilda, Jude, and Hugo.
URL:https://www.newcanaanlibrary.org/event/erin-walsh-celeb-stylist-203032
END:VEVENT
END:VCALENDAR
