BEGIN:VCALENDAR
VERSION:2.0
PRODID:-//Library Market//iCal Export//EN
BEGIN:VEVENT
SUMMARY:Red Cross Blood Drive
UID:206022
DTSTAMP:20260419T163400Z
DTSTART:20260505T130000Z
DTEND:20260505T180000Z
LOCATION:New Canaan Library, 151 Main Street, New Canaan, CT 06840, United
  States
ROOM: Jim &amp; Dede Bartlett Auditorium + Community Room
DESCRIPTION:The need to maintain a reliable blood supply is constant and v
 ital; by donating, you are helping to change, and perhaps save, a life! Ad
 vanced appointments are required; sign up here.Donors must bring a positiv
 e form of ID. For a complete list of requirements and helpful tips for pot
 ential donors, please contact the Red Cross Donor Client Center at 1-866-2
 36-3276, open 24/7. Information is also available at redcrossblood.org.
URL:https://www.newcanaanlibrary.org/event/red-cross-blood-drive-206022
END:VEVENT
END:VCALENDAR
