BEGIN:VCALENDAR
VERSION:2.0
PRODID:-//Library Market//iCal Export//EN
BEGIN:VEVENT
SUMMARY:New Canaan Author Sarah G. Pierce discusses her novel For Human Us
 e
UID:208303
DTSTAMP:20260420T115100Z
DTSTART:20260530T180000Z
DTEND:20260530T190000Z
LOCATION:New Canaan Library, 151 Main Street, New Canaan, CT 06840, United
  States
ROOM: Jim &amp; Dede Bartlett Auditorium + Community Room
DESCRIPTION:Join debut author Sarah G. Pierce at to celebrate her new nove
 l, For Human Use, a twisted romantic comedy!An unforgettable debut, For Hu
 man Use is a twisted tale of modern love that bends every genre, sears its
 elf into your brain, and presents a horrific romantic comedy unlike anythi
 ng you’ve ever read before.★ “An utterly ingenious horror-romcom, da
 rkly zeitgeisty, and unnervingly plausible—funny as hell, too. You will 
 not forget this book.” ―Heather Aimee O’Neill, author of Read With J
 enna book club pick The Irish GoodbyeSarah will be signing copies of her n
 ovel after the event. 
URL:https://www.newcanaanlibrary.org/event/new-canaan-author-sarah-j-pierc
 e-208303
END:VEVENT
END:VCALENDAR
