BEGIN:VCALENDAR
VERSION:2.0
PRODID:-//Library Market//iCal Export//EN
BEGIN:VEVENT
SUMMARY:Summer Reading Kickoff Party: FUN for ALL AGES
UID:210078
DTSTAMP:20260425T115400Z
DTSTART:20260625T190000Z
DTEND:20260625T220000Z
LOCATION:New Canaan Library, 151 Main Street, New Canaan, CT 06840, United
  States
ROOM: Jim &amp; Dede Bartlett Auditorium + Community Room + Kend Kitchen
DESCRIPTION:Drop in and celebrate the start of Summer Reading! We are cele
 brating RIBBIT RIBBIT READIT for a fun frog summer! Join us as we play a l
 ife sized frogger game, help make GIANT frog artwork, eat some green ice-c
 ream, do a scavengar hunt to earn a frog tattoos, and more crafting fun! B
 ring the whole family to celebrate summer reading!  ***Only registration 
 buttons will be avaliable during this time. All other buttons can be picke
 d up at a different time.****Make sure to sign up for Summer Reading! Kids
  and Teens, come pick up a lanyard and book prize to jump-start your Summe
 r Reading, and make your first button! Adults, come to learn about our Adu
 lt Summer Reading program.   
URL:https://www.newcanaanlibrary.org/event/summer-reading-kickoff-party-fu
 n-all-ages-210078
END:VEVENT
END:VCALENDAR
