BEGIN:VCALENDAR
VERSION:2.0
PRODID:-//Library Market//iCal Export//EN
BEGIN:VEVENT
SUMMARY:Diamond Painting for Adults: First Timers
UID:211478
DTSTAMP:20260419T163300Z
DTSTART:20260511T153000Z
DTEND:20260511T170000Z
LOCATION:New Canaan Library, 151 Main Street, New Canaan, CT 06840, United
  States
ROOM: Anderson MakerLab
DESCRIPTION:In this workshop, participants will create a uniquely designed
  mini magnet. Diamond painting is like paint by numbers, but using small 
 gemstones instead of paint. Each participant will be able to make 1 diamon
 d-painted magnet. This program is reserved for patrons who have never tak
 en a diamond painting class at New Canaan Library. Please do not register 
 if you have previously taken a diamond painting class. 
URL:https://www.newcanaanlibrary.org/event/diamond-painting-adults-first-t
 imers-211478
END:VEVENT
END:VCALENDAR
