BEGIN:VCALENDAR
VERSION:2.0
PRODID:-//Library Market//iCal Export//EN
BEGIN:VEVENT
SUMMARY:Computer Basics: Spot a Scam
UID:215717
DTSTAMP:20260421T122500Z
DTSTART:20260508T180000Z
DTEND:20260508T190000Z
LOCATION:New Canaan Library, 151 Main Street, New Canaan, CT 06840, United
  States
ROOM: McLaughlin Meeting Room
DESCRIPTION:Don&#039;t fall for scams! In this class, learn how to identif
 y and protect yourself from some of the most common scams of 2026. You wil
 l also learn about the benefits of two-factor authentication, email safety
  and what to do if you think you have been the victim of a scam.
URL:https://www.newcanaanlibrary.org/event/computer-basics-spot-scam-21571
 7
END:VEVENT
END:VCALENDAR
