BEGIN:VCALENDAR
VERSION:2.0
PRODID:-//Library Market//iCal Export//EN
BEGIN:VEVENT
SUMMARY:Computer Basics: Password Managers
UID:215724
DTSTAMP:20260421T122500Z
DTSTART:20260515T180000Z
DTEND:20260515T190000Z
LOCATION:New Canaan Library, 151 Main Street, New Canaan, CT 06840, United
  States
ROOM: McLaughlin Meeting Room
DESCRIPTION:Looking for a safer way to remember your passwords? In this cl
 ass, you will learn about password managers, powerful tools that keep trac
 k of all your passwords for you across multiple devices, create strong pas
 swords that are hard to guess, and help secure your accounts and personal 
 information.
URL:https://www.newcanaanlibrary.org/event/computer-basics-password-manage
 rs-215724
END:VEVENT
END:VCALENDAR
