BEGIN:VCALENDAR
VERSION:2.0
PRODID:-//Library Market//iCal Export//EN
BEGIN:VEVENT
SUMMARY:Art Class for Grades 1-2: Chalk Pastel Galaxy
UID:216549
DTSTAMP:20260421T103400Z
DTSTART:20260503T200000Z
DTEND:20260503T204500Z
LOCATION:New Canaan Library, 151 Main Street, New Canaan, CT 06840, United
  States
ROOM: Arlene H. Grushkin Children&#039;s Program Room + Program Room B
DESCRIPTION:Ready to get creative and make something amazing? Join a few N
 CHS art students for an engaging, hands-on art class! Students in grades 1
 -2 will create their own galaxies with colorful chalk pastels while explor
 ing space science. We will experiment with colors, blending, and fun techn
 iques. Materials will be provided, and students can take their galaxies ho
 me to display! These classes are organized by Emily Meng, a high school f
 reshman and recipient of multiple Scholastic Art Awards, including the CAE
 A/Arnini Best in Drawing award, as well as additional honors in national a
 nd international competitions. Emily has a strong background in drawing, p
 ainting, crafting, and mural work, and she is passionate about sharing cre
 ative, hands-on experiences with young students.
URL:https://www.newcanaanlibrary.org/event/emily-meng-art-216549
END:VEVENT
END:VCALENDAR
