BEGIN:VCALENDAR
VERSION:2.0
PRODID:-//Library Market//iCal Export//EN
BEGIN:VEVENT
SUMMARY:Drawing Class for Grades 3-4: Zentangle Creatures
UID:216550
DTSTAMP:20260421T122500Z
DTSTART:20260516T193000Z
DTEND:20260516T203000Z
LOCATION:New Canaan Library, 151 Main Street, New Canaan, CT 06840, United
  States
ROOM: Arlene H. Grushkin Children&#039;s Program Room + Program Room B
DESCRIPTION:Ready to get creative and bring your imagination to life? Join
  a few NCHS art students for an engaging, hands-on art class! Students in 
 grades 3-4 will design their own creatures with Zentangle-style patterns, 
 using simple repeating lines and shapes to create detailed, innovative art
 work. All skill levels are welcome, and materials will be provided.These c
 lasses are organized by Emily Meng, a high school freshman and recipient o
 f multiple Scholastic Art Awards, including the CAEA/Arnini Best in Drawin
 g award, as well as additional honors in national and international compet
 itions. Emily has a strong background in drawing, painting, crafting, and 
 mural work, and she is passionate about sharing creative, hands-on experie
 nces with young students.
URL:https://www.newcanaanlibrary.org/event/emily-meng-art-216550
END:VEVENT
END:VCALENDAR
