BEGIN:VCALENDAR
VERSION:2.0
PRODID:-//Library Market//iCal Export//EN
BEGIN:VEVENT
SUMMARY:AUDIENCE REGISTRATION: New Canaan&#039;s Got Talent
UID:216570
DTSTAMP:20260425T153800Z
DTSTART:20260711T190000Z
DTEND:20260711T203000Z
LOCATION:New Canaan Library, 151 Main Street, New Canaan, CT 06840, United
  States
ROOM: Jim &amp; Dede Bartlett Auditorium + Community Room
DESCRIPTION:New Canaan&#039;s got talent--and this is your chance to see i
 t! From magic tricks to playing an instrument, children entering grades 1 
 to 12 will show off their special talents in our talent show! Join us at 3
  p.m. Saturday, July 11, to cheer them on and experience the rising stars 
 of New Canaan.THIS REGISTRATION IS FOR AUDIENCE MEMBERS. IF YOU WOULD LIKE
  TO BE IN THE TALENT SHOW, PLEASE REGISTER HERE INSTEAD. New Canaan&#039;
 s Got Talent is offered in collaboration with rising college sophomore Tar
 a Menon, who will also emcee the event. 
URL:https://www.newcanaanlibrary.org/event/audience-registration-new-canaa
 ns-got-talent-216570
END:VEVENT
END:VCALENDAR
