BEGIN:VCALENDAR
VERSION:2.0
PRODID:-//Library Market//iCal Export//EN
BEGIN:VEVENT
SUMMARY:Beginner to Intermediate Spanish Conversation Group for Adults
UID:216715
DTSTAMP:20260421T101500Z
DTSTART:20260512T223000Z
DTEND:20260512T233000Z
LOCATION:New Canaan Library, 151 Main Street, New Canaan , CT 06840, Unite
 d States
ROOM: Hobbs Family Study Room (#221)
DESCRIPTION:Our Spanish Conversation group is designed for individuals wit
 h advanced beginner or intermediate skills. This lively, instructor-led se
 ssion focuses on helping participants grow their confidence, expand their 
 vocabulary, and strengthen their ability to speak comfortably in real-worl
 d situations. Each meeting offers guided conversation practice, thematic p
 rompts, and gentle correction to support continued progress. While the atm
 osphere is relaxed and welcoming, the class is conducted primarily in Span
 ish, so a basic foundation in the language is essential.  
URL:https://www.newcanaanlibrary.org/event/beginner-intermediate-spanish-c
 onversation-group-adults-216715
END:VEVENT
END:VCALENDAR
