BEGIN:VCALENDAR
VERSION:2.0
PRODID:-//Library Market//iCal Export//EN
BEGIN:VEVENT
SUMMARY:Pop-Up Books: Bog Life for Grades 3-4
UID:217330
DTSTAMP:20260420T163000Z
DTSTART:20260715T193000Z
DTEND:20260715T203000Z
LOCATION:New Canaan Library, 151 Main Street, New Canaan, CT 06840, United
  States
ROOM: Anderson MakerLab
DESCRIPTION:Learn pop-up book mechanics and paper engineering concepts at 
 this pop-up book making class.  Our book will be bog life theme in keepin
 g with our summer reading.  We will assemble our books and you&#039;ll ha
 ve the opportunity to customize your book pages as we build. For students 
 in grades 3-4 in Fall 2026.Registration opens June 1 at 8am.
URL:https://www.newcanaanlibrary.org/event/pop-books-bog-life-grades-3-4-2
 17330
END:VEVENT
END:VCALENDAR
