BEGIN:VCALENDAR
VERSION:2.0
PRODID:-//Library Market//iCal Export//EN
BEGIN:VEVENT
SUMMARY:Polymer Clay - Art Camp for Teens
UID:217686
DTSTAMP:20260421T023200Z
DTSTART:20260721T203000Z
DTEND:20260721T220000Z
LOCATION:New Canaan Library, 151 Main Street, New Canaan, CT 06840, United
  States
ROOM: Anderson MakerLab
DESCRIPTION:Join us for a 3 day workshop and learn the basics of polymer c
 lay! On day 1 we&#039;ll talk about what the clay is and how it works befo
 re learning to make an easy starter project, then on days 2 and 3 we&#039;
 ll apply that knowledge to make a colorful, mini work of art! Please only
  register if you are able to attend all 3 days! Pre-registration required.
  
URL:https://www.newcanaanlibrary.org/event/art-camp-teens-217686
END:VEVENT
END:VCALENDAR
