BEGIN:VCALENDAR
VERSION:2.0
PRODID:-//Library Market//iCal Export//EN
BEGIN:VEVENT
SUMMARY:Mosaic Coaster Workshop for Teens (ages 12-18)
UID:217690
DTSTAMP:20260421T113300Z
DTSTART:20260821T193000Z
DTEND:20260821T204500Z
LOCATION:New Canaan Library, 151 Main Street, New Canaan, CT 06840, United
  States
ROOM: Anderson MakerLab
DESCRIPTION:Join us to learn the basics of mosaic! In this workshop you&#0
 39;ll get to design your coaster (or use a pre-made design) before picking
  out the tiles you want and gluing them down. We&#039;ll finish with grout
  so you have a beautiful piece of functional art! Please pre-register. D
 ue to the nature of this program, and out of respect for instructors and f
 ellow patrons, we are not able to accommodate anyone who arrives more than
  10 minutes after the scheduled start of the program. Unless prior arrange
 ments have been made with the instructor, latecomers will not be allowed i
 nto the program. Thank you for your understanding and help in making prog
 rams at the Library successful and fun for everyone!
URL:https://www.newcanaanlibrary.org/event/mosaic-coaster-workshop-teens-a
 ges-12-18-217690
END:VEVENT
END:VCALENDAR
