BEGIN:VCALENDAR
VERSION:2.0
PRODID:-//Library Market//iCal Export//EN
BEGIN:VEVENT
SUMMARY:Beaded Frog Keychain: Take and Make Craft Pick Up for Ages 12 to 1
 9
UID:217700
DTSTAMP:20260421T124500Z
DTSTART:20260826T210000Z
DTEND:20260827T000000Z
LOCATION:New Canaan Library, 151 Main Street, New Canaan, CT 06840, United
  States
ROOM: Kontulis Family Storytime Room
DESCRIPTION:Swing by the library to pick up the supplies for a make-at-hom
 e craft! Everything you need will be in your kit, so it&#039;s perfect for
  a study break or long weekend trip. Note: This event is listed as a wind
 ow of time for pick-ups, there is no class or program associated with this
  craft! You can pick up your kit starting at 5 PM until the library closes
 . Kits that are not claimed, will be put out for the general public. Thank
  you! 
URL:https://www.newcanaanlibrary.org/event/craft-take-and-make-craft-pick-
 ages-12-19-217700
END:VEVENT
END:VCALENDAR
