BEGIN:VCALENDAR
VERSION:2.0
PRODID:-//Library Market//iCal Export//EN
BEGIN:VEVENT
SUMMARY:Magic: The Gathering Meetup for ages 12 to 18
UID:217706
DTSTAMP:20260421T124500Z
DTSTART:20260819T220000Z
DTEND:20260819T233000Z
LOCATION:New Canaan Library, 151 Main Street, New Canaan, CT 06840, United
  States
ROOM: Arlene H. Grushkin Children&#039;s Program Room + Program Room B
DESCRIPTION:Join us for a friendly session of Modern Casual Magic: The Gat
 hering! Beginners and players of any experience are more than welcome to j
 oin. Please bring your own standard deck if possible! The Library will pr
 ovide mats and dice. We also have a few standard decks available if you do
  not have one. Please pre-register. 
URL:https://www.newcanaanlibrary.org/event/magic-gathering-meetup-ages-12-
 18-217706
END:VEVENT
END:VCALENDAR
