BEGIN:VCALENDAR
VERSION:2.0
PRODID:-//Library Market//iCal Export//EN
BEGIN:VEVENT
SUMMARY:Dungeons &amp; Dragons - Raiders on the Red Water: Oneshot for age
 s 12 to 18
UID:217707
DTSTAMP:20260421T110300Z
DTSTART:20260714T193000Z
DTEND:20260714T234500Z
LOCATION:New Canaan Library, 151 Main Street, New Canaan, CT 06840, United
  States
ROOM: Arlene H. Grushkin Children&#039;s Program Room
DESCRIPTION:Facing despicable sea raiders and their newfound powers, wil
 l your party triumph over the kidnappers or will they too find their end a
 t the bottom of a watery grave?Newcomers to D&amp;D are welcome, we provid
 e a characters sheet as well as dice and minis! We will take a break for a
  snack between 2:15 and 2:45. Pre-registration is required.  
URL:https://www.newcanaanlibrary.org/event/copy-dungeons-dragons-death-sav
 e-repeat-oneshot-ages-12-18-217707
END:VEVENT
END:VCALENDAR
