BEGIN:VCALENDAR
VERSION:2.0
PRODID:-//Library Market//iCal Export//EN
BEGIN:VEVENT
SUMMARY:Frog Days of Summer: Dungeons and Dragons Oneshot for ages 12 to 1
 8
UID:217708
DTSTAMP:20260420T232100Z
DTSTART:20260725T161500Z
DTEND:20260725T204500Z
LOCATION:New Canaan Library, 151 Main Street, New Canaan, CT 06840, United
  States
ROOM: Craig B. Tate Conference Room
DESCRIPTION:Your party explores a hot summer bog. The nefarious frogfolk b
 ewitched the seasons and stalled summer out far past its due. Will the par
 ty restore order to nature or will they meet their doom in a muddy grave?N
 ewcomers to D&amp;D are welcome, we provide a characters sheet as well as 
 dice and minis! We will take a break for a snack between 2:15 and 2:45. Pr
 e-registration is required.  
URL:https://www.newcanaanlibrary.org/event/copy-copy-dungeons-dragons-deat
 h-save-repeat-oneshot-ages-12-18-217708
END:VEVENT
END:VCALENDAR
