BEGIN:VCALENDAR
VERSION:2.0
PRODID:-//Library Market//iCal Export//EN
BEGIN:VEVENT
SUMMARY:Dungeons &amp; Dragons - Strange Wonders in Fairyland: Oneshot for
  ages 12 to 18
UID:217709
DTSTAMP:20260421T110300Z
DTSTART:20260813T161500Z
DTEND:20260813T204500Z
LOCATION:New Canaan Library, 151 Main Street, New Canaan, CT 06840, United
  States
ROOM: Craig B. Tate Conference Room
DESCRIPTION:Take your party on a quest to return an orb of unstable magic 
 to its rightful place in a whimsical wonderland. Will their journey prove 
 fruitful? Or was it all just a strange dream? Newcomers to D&amp;D are we
 lcome, we provide a characters sheet as well as dice and minis! We will ta
 ke a break for a snack between 2:15 and 2:45. Pre-registration is required
 .  
URL:https://www.newcanaanlibrary.org/event/dungeons-dragons-death-save-rep
 eat-oneshot-ages-12-18-217709
END:VEVENT
END:VCALENDAR
