BEGIN:VCALENDAR
VERSION:2.0
PRODID:-//Library Market//iCal Export//EN
BEGIN:VEVENT
SUMMARY:3-5&#039;s Storytime
UID:217931
DTSTAMP:20260421T041600Z
DTSTART:20260716T150000Z
DTEND:20260716T154500Z
LOCATION:New Canaan Library, 151 Main Street, New Canaan, CT 06840, United
  States
ROOM: Kontulis Family Storytime Room + Program Room
DESCRIPTION:Â Join Miss Dajana for 3-5â€™s Storytime series with songs, rh
 ymes, felts, special books and activities! This class is for those who are
  3-5 years old.Â Registration for this class is for each individual date.Â
  Â During the first five minutes of the program, those who are on the wait
 list may be admitted if there are open spaces. If there is no one on the w
 aitlist present after 5 minutes have passed, walk-in attendees may be admi
 tted. We do not guarantee space for anyone on the waitlist or walk-in.Â 
URL:https://www.newcanaanlibrary.org/event/3-5s-storytime-217931
END:VEVENT
END:VCALENDAR
