BEGIN:VCALENDAR
VERSION:2.0
PRODID:-//Library Market//iCal Export//EN
BEGIN:VEVENT
SUMMARY:EV3 Robotics with Happy Code Club for Grades 5-8
UID:218081
DTSTAMP:20260420T163000Z
DTSTART:20260806T200000Z
DTEND:20260806T210000Z
LOCATION:New Canaan Library, 151 Main Street, New Canaan, CT 06840, United
  States
ROOM: Anderson MakerLab
DESCRIPTION:Learn the basics of programming robots with EV3 Lego Mindstorm
 s, using a First Lego League training guide led by Happy Code Club.  We w
 ill explore coding concepts as we program our robot to complete challenges
  and compete in games. For students in grades 5-8 in Fall 2026.Registratio
 n opens July 1 at 8am.
URL:https://www.newcanaanlibrary.org/event/ev3-robotics-happy-code-club-gr
 ades-5-8-218081
END:VEVENT
END:VCALENDAR
