BEGIN:VCALENDAR
VERSION:2.0
PRODID:-//Library Market//iCal Export//EN
BEGIN:VEVENT
SUMMARY:Board Game Design Camp for Grades 5-9
UID:218085
DTSTAMP:20260421T110300Z
DTSTART:20260813T193000Z
DTEND:20260813T203000Z
LOCATION:New Canaan Library, 151 Main Street, New Canaan, CT 06840, United
  States
ROOM: Anderson MakerLab
DESCRIPTION:Design a board game working either solo or with a team. Â We&#
 039;ll explore game mechanics, strategies and storytelling and use MakerLa
 b equipment to create a prototype of our games. Â This workshop meets over
  four days: August 10-13. Â Please be sure you can attend all four days. Â
  Â Sign up either solo or as a team. Â If registering as a team, please re
 gister the team lead and list other team members when prompted. Â All atte
 ndees need to be in grades 5-9 in Fall 2026. Â Registration opens July 1 a
 t 8am.
URL:https://www.newcanaanlibrary.org/event/board-game-design-camp-grades-5
 -9-218085
END:VEVENT
END:VCALENDAR
