BEGIN:VCALENDAR
VERSION:2.0
PRODID:-//Library Market//iCal Export//EN
BEGIN:VEVENT
SUMMARY:3D Design Camp for Grades 4-8
UID:218088
DTSTAMP:20260420T163000Z
DTSTART:20260727T193000Z
DTEND:20260727T203000Z
LOCATION:New Canaan Library, 151 Main Street, New Canaan, CT 06840, United
  States
ROOM: Anderson MakerLab
DESCRIPTION:Each day of the 3D design camp, we will use a different CAD so
 ftware to create a project to 3d print. Through our projects, we&#039;ll e
 xplore the essentials of 3D printing. Designs from each day will be printe
 d, but due to the time it takes to print, our day 3 design will need to be
  picked up post-class.  You will receive an email when it is ready.For st
 udents in grades 4-8 in Fall 2026. Registration opens June 1 at 8am. Pleas
 e only register if you can attend all three days. 
URL:https://www.newcanaanlibrary.org/event/3d-design-camp-grades-4-8-21808
 8
END:VEVENT
END:VCALENDAR
