BEGIN:VCALENDAR
VERSION:2.0
PRODID:-//Library Market//iCal Export//EN
BEGIN:VEVENT
SUMMARY:Beaded Jumping Frogs for Grades 5-8
UID:218094
DTSTAMP:20260421T105300Z
DTSTART:20260814T193000Z
DTEND:20260814T203000Z
LOCATION:New Canaan Library, 151 Main Street, New Canaan, CT 06840, United
  States
ROOM: Anderson MakerLab
DESCRIPTION:Learn to bead a jumping frog using seed beads and wire. For st
 udents in grades 5-8 in Fall 2026.Registration opens July 1 at 8am.
URL:https://www.newcanaanlibrary.org/event/beaded-jumping-frogs-grades-5-8
 -218094
END:VEVENT
END:VCALENDAR
