BEGIN:VCALENDAR
VERSION:2.0
PRODID:-//Library Market//iCal Export//EN
BEGIN:VEVENT
SUMMARY:Art Exhibit for Neurodivergent &amp; Special Needs Students: Canva
 s Pickup
UID:218900
DTSTAMP:20260424T090600Z
DTSTART:20260501T130000Z
DTEND:20260501T210000Z
LOCATION:New Canaan Library, 151 Main Street, New Canaan, CT 06840, United
  States
ROOM: Kontulis Family Storytime Room
DESCRIPTION:1st Annual Art Exhibit for Neurodivergent &amp; Special Needs 
 StudentsInclusive Together, Debbie Burke-Smith, and New Canaan Library inv
 ite neurodivergent &amp; special needs students ages 5-22 to share their 
 creativity in an art exhibit celebrating individuality, imagination, and s
 elf-expression. View full participation instructions here. REGISTER HERE 
 (Inclusive Together will share registrant lists with New Canaan Library.)A
 fter registering, pick up your canvas in New Canaan Library&#039;s Childre
 n&#039;s Room between May 1 and May 28. Return your art to New Canaan Libr
 ary&#039;s Children&#039;s Room by May 29. 
URL:https://www.newcanaanlibrary.org/event/art-exhibit-neurodivergent-spec
 ial-needs-students-canvas-pickup-218900
END:VEVENT
END:VCALENDAR
