BEGIN:VCALENDAR
VERSION:2.0
PRODID:-//Library Market//iCal Export//EN
BEGIN:VEVENT
SUMMARY:PERFORMER REGISTRATION: New Canaan&#039;s Got Talent (Grades 1-12)
UID:219088
DTSTAMP:20260425T153800Z
DTSTART:20260711T180000Z
DTEND:20260711T203000Z
LOCATION:New Canaan Library, 151 Main Street, New Canaan, CT 06840, United
  States
ROOM: Kend Family Kitchen
DESCRIPTION:Have a special talent? Come show it off at the New Canaan’s 
 Got Talent, Talent Show. All children entering grades 1- 12 are welcome to
  participate in the show! Children can showcase any talent they choose, fr
 om magic tricks to playing an instrument -- no talent is too small! The T
 alent Show will begin at 3 p.m. Saturday, July 11. Presenters should plan 
 to arrive at 2 p.m. to prepare. Presenters must register by 11:59 p.m. Ju
 ly 5. To help us plan, please make sure to list your talent and any equipm
 ent needed when you register. Please keep acts under 3 minutes so that we 
 can feature as many talents as possible. THIS REGISTRATION IS FOR PRESENT
 ERS. AUDIENCE MEMBERS, PLEASE REGISTER HERE INSTEAD. New Canaan&#039;s Go
 t Talent is offered in collaboration with rising college sophomore Tara Me
 non, who will also emcee the event. 
URL:https://www.newcanaanlibrary.org/event/performer-registration-new-cana
 ans-got-talent-grades-1-12-219088
END:VEVENT
END:VCALENDAR
