BEGIN:VCALENDAR
VERSION:2.0
PRODID:-//Library Market//iCal Export//EN
BEGIN:VEVENT
SUMMARY:Summer Stories and Crafts for Ages 2 and 3 Years
UID:219100
DTSTAMP:20260425T153800Z
DTSTART:20260727T143000Z
DTEND:20260727T151500Z
LOCATION:New Canaan Library, 151 Main Street, New Canaan, CT 06840, United
  States
ROOM: Kontulis Family Storytime Room + Program Room
DESCRIPTION:Children ages 2-3 years and their caregivers, join Miss Rebecc
 a for summer-themed stories, songs, movement, and crafts!This class will m
 eet for 6 weeks (10:30 a.m. Mondays, June 29 through August 3). You must r
 egister individually for each date that you plan to attend. Feel free to p
 ick the weeks that work for you! During the first five minutes of the pro
 gram, those who are on the waitlist may be admitted if there are open spac
 es. If there is no one on the waitlist present after 5 minutes have passed
 , walk-in attendees may be admitted. We do not guarantee space for anyone 
 on the waitlist or walk-in. 
URL:https://www.newcanaanlibrary.org/event/summer-stories-and-crafts-ages-
 2-and-3-years-219100
END:VEVENT
END:VCALENDAR
