BEGIN:VCALENDAR
VERSION:2.0
PRODID:-//Library Market//iCal Export//EN
BEGIN:VEVENT
SUMMARY:Math Art for Grades 1-2
UID:219106
DTSTAMP:20260425T190600Z
DTSTART:20260722T193000Z
DTEND:20260722T201500Z
LOCATION:New Canaan Library, 151 Main Street, New Canaan, CT 06840, United
  States
ROOM: Arlene H. Grushkin Children&#039;s Program Room + Program Room B
DESCRIPTION:Children entering grades 1 and 2, join Miss Rebecca for 4 days
  of hands-on art projects that will level up your math skills! Each day&#
 039;s project will incorporate math in a fun, interactive way that gets cr
 eativity flowing. This is an ongoing club. Please plan to attend for all 
 4 days (3:30 p.m. July 20 through 23).This program is intended for childre
 n entering grades 1-2 in Fall 2026. 
URL:https://www.newcanaanlibrary.org/event/math-art-grades-1-2-219106
END:VEVENT
END:VCALENDAR
