BEGIN:VCALENDAR
VERSION:2.0
PRODID:-//Library Market//iCal Export//EN
BEGIN:VEVENT
SUMMARY:Story Starters Camp for Grades 1-3
UID:219112
DTSTAMP:20260426T001000Z
DTSTART:20260812T193000Z
DTEND:20260812T203000Z
LOCATION:New Canaan Library, 151 Main Street, New Canaan, CT 06840, United
  States
ROOM: Arlene H. Grushkin Children&#039;s Program Room + Program Room B
DESCRIPTION:Are you a budding writer entering Grades 1 to 3? Join Miss Reb
 ecca for a three-day storytellingâ€“and story writingâ€“extravaganza! Weâ€
 ™ll play games to get imaginations flowing, then put ideas to paper in cre
 ative ways. Please plan to join us for all three classes (Monday, Tuesday,
  and Wednesday). We&#039;ll develop our stories over the course of the wee
 k, and we&#039;ll learn about a different aspect of storytelling each day.
 Â This program is intended for children entering grades 1-3 in Fall 2026.Â
  
URL:https://www.newcanaanlibrary.org/event/story-starters-camp-grades-1-3-
 219112
END:VEVENT
END:VCALENDAR
